View In:
ArcGIS JavaScript
ArcGIS Online Map Viewer
ArcGIS Earth
Service Description: Hosted/BiodiversityIndex_v_2
Name: Hosted/BiodiversityIndex_v_2
Description: The RasterRendering service is a multi-tenant raster rendering provider.
Single Fused Map Cache: true
Tile Info:
- Height: 256
- Width: 256
- DPI: 96
-
Levels of Detail: 6
- Format: LERC2D
- Compression Quality: 0.0
- LERC Error: 0.0
- Origin: X: 33860.89438203763
Y: 959759.500163719
- Spatial Reference: 26986
(26986)
LatestVCSWkid(0)
Storage Info:
- Storage Format: esriMapCacheStorageModeCompactV2
- Packet Size: 16
Extent:
XMin: 33860.89438203763
YMin: 777509.500163719
XMax: 330860.89438203763
YMax: 959759.500163719
Spatial Reference: 26986
(26986)
LatestVCSWkid(0)
Initial Extent:
XMin: 33860.89438203763
YMin: 777509.500163719
XMax: 330860.89438203763
YMax: 959759.500163719
Spatial Reference: 26986
(26986)
LatestVCSWkid(0)
Full Extent:
XMin: 33860.89438203763
YMin: 777509.500163719
XMax: 330860.89438203763
YMax: 959759.500163719
Spatial Reference: 26986
(26986)
LatestVCSWkid(0)
Pixel Size X: 30.0
Pixel Size Y: 30.0
Band Count: 1
Pixel Type: F32
RasterFunction Infos: {"rasterFunctionInfos": [{
"name": "None",
"description": "",
"help": ""
}]}
Mensuration Capabilities: Basic
Inspection Capabilities:
Has Histograms: true
Has Colormap: false
Has Multi Dimensions : false
Rendering Rule:
Min Scale: 0
Max Scale: 0
Copyright Text:
Service Data Type: esriImageServiceDataTypeThematic
Min Values: 0
Max Values: 5
Mean Values: 2.4039700679598988
Standard Deviation Values: 1.9773958525417474
Object ID Field:
Fields:
None
Default Mosaic Method: Center
Allowed Mosaic Methods:
SortField:
SortValue: null
Mosaic Operator: First
Default Compression Quality: 75
Default Resampling Method: Nearest
Max Record Count: null
Max Image Height: 4000
Max Image Width: 4000
Max Download Image Count: null
Max Mosaic Image Count: null
Allow Raster Function: true
Allow Copy: false
Allow Analysis: true
Allow Compute TiePoints: false
Supports Statistics: false
Supports Advanced Queries: false
Use StandardizedQueries: true
Raster Type Infos:
Name: Raster Dataset
Description: Supports all ArcGIS Raster Datasets
Help:
Has Raster Attribute Table: false
Edit Fields Info: null
Ownership Based AccessControl For Rasters: null
Child Resources:
Info
Histograms
Statistics
Key Properties
Legend
Raster Function Infos
Supported Operations:
Export Image
Identify
Compute Histograms
Compute Statistics Histograms
Get Samples
Compute Class Statistics
Query Boundary
Compute Pixel Location
Compute Angles
Validate
Project