{
 "currentVersion": 11.4,
 "serviceDescription": "Hosted/BiodiversityIndex_v_2",
 "name": "Hosted/BiodiversityIndex_v_2",
 "description": "The RasterRendering service is a multi-tenant raster rendering provider.",
 "extent": {
  "xmin": 33860.89438203763,
  "ymin": 777509.500163719,
  "xmax": 330860.89438203763,
  "ymax": 959759.500163719,
  "spatialReference": {
   "wkid": 26986,
   "latestWkid": 26986
  }
 },
 "initialExtent": {
  "xmin": 33860.89438203763,
  "ymin": 777509.500163719,
  "xmax": 330860.89438203763,
  "ymax": 959759.500163719,
  "spatialReference": {
   "wkid": 26986,
   "latestWkid": 26986
  }
 },
 "fullExtent": {
  "xmin": 33860.89438203763,
  "ymin": 777509.500163719,
  "xmax": 330860.89438203763,
  "ymax": 959759.500163719,
  "spatialReference": {
   "wkid": 26986,
   "latestWkid": 26986
  }
 },
 "sortableFields": "",
 "bandCount": 1,
 "pixelType": "F32",
 "minValues": [
  0
 ],
 "maxValues": [
  5
 ],
 "meanValues": [
  2.4039700679598988
 ],
 "stdvValues": [
  1.9773958525417474
 ],
 "hasMultidimensions": false,
 "pixelSizeX": 30,
 "pixelSizeY": 30,
 "meanPixelSize": 30,
 "datasetFormat": "Cache/LERC2D",
 "uncompressedSize": 240570000,
 "blockWidth": 256,
 "blockHeight": 256,
 "compressionType": "LERC2D",
 "bandNames": [
  "Band_1"
 ],
 "allowCopy": false,
 "allowAnalysis": true,
 "itemAccess": false,
 "inspectionCapabilities": "",
 "noDataValue": -3.4028230607370965E38,
 "noDataValues": [
  -3.4028230607370965E38
 ],
 "minPixelSize": 0,
 "maxPixelSize": 0,
 "copyrightText": "",
 "serviceDataType": "esriImageServiceDataTypeThematic",
 "serviceSourceType": "esriImageServiceSourceTypeDataset",
 "objectIdField": "",
 "fields": [],
 "capabilities": "Image",
 "defaultMosaicMethod": "Center",
 "allowedMosaicMethods": "",
 "sortField": "",
 "sortValue": null,
 "sortAscending": true,
 "mosaicOperator": "First",
 "defaultCompressionQuality": 75,
 "defaultResamplingMethod": "Nearest",
 "maxImageHeight": 4000,
 "maxImageWidth": 4000,
 "singleFusedMapCache": true,
 "tileInfo": {
  "rows": 256,
  "cols": 256,
  "dpi": 96,
  "format": "LERC2D",
  "compressionQuality": 0,
  "lercError": 0,
  "origin": {
   "x": 33860.89438203763,
   "y": 959759.500163719
  },
  "spatialReference": {
   "wkid": 26986,
   "latestWkid": 26986
  },
  "lods": [
   {
    "level": 0,
    "resolution": 960,
    "scale": 3628339.1999999997
   },
   {
    "level": 1,
    "resolution": 480,
    "scale": 1814169.5999999999
   },
   {
    "level": 2,
    "resolution": 240,
    "scale": 907084.7999999999
   },
   {
    "level": 3,
    "resolution": 120,
    "scale": 453542.39999999997
   },
   {
    "level": 4,
    "resolution": 60,
    "scale": 226771.19999999998
   },
   {
    "level": 5,
    "resolution": 30,
    "scale": 113385.59999999999
   }
  ]
 },
 "storageInfo": {
  "storageFormat": "esriMapCacheStorageModeCompactV2",
  "packetSize": 16
 },
 "cacheType": "Raster",
 "allowRasterFunction": true,
 "rasterFunctionInfos": [
  {
   "name": "None",
   "description": "",
   "help": ""
  }
 ],
 "rasterTypeInfos": [
  {
   "name": "Raster Dataset",
   "description": "Supports all ArcGIS Raster Datasets",
   "help": ""
  }
 ],
 "mensurationCapabilities": "Basic",
 "hasHistograms": true,
 "hasColormap": false,
 "hasRasterAttributeTable": false,
 "minScale": 0,
 "maxScale": 0,
 "exportTilesAllowed": false,
 "supportsStatistics": false,
 "supportsAdvancedQueries": false,
 "editFieldsInfo": null,
 "ownershipBasedAccessControlForRasters": null,
 "allowComputeTiePoints": false,
 "useStandardizedQueries": true,
 "advancedQueryCapabilities": {
  "useStandardizedQueries": true,
  "supportsStatistics": false,
  "supportsOrderBy": false,
  "supportsDistinct": false,
  "supportsPagination": false
 },
 "spatialReference": {
  "wkid": 26986,
  "latestWkid": 26986
 }
}
