View In:
ArcGIS JavaScript
ArcGIS Online Map Viewer
ArcGIS Earth
Service Description: Hosted/AgriculturalResourcesIndex
Name: Hosted/AgriculturalResourcesIndex
Description:
Single Fused Map Cache: false
Extent:
XMin: 35497.68966006319
YMin: 777666.1132326964
XMax: 330307.6896600632
YMax: 959766.1132326964
Spatial Reference: 26986
(26986)
LatestVCSWkid(0)
Initial Extent:
XMin: 35497.68966006319
YMin: 777666.1132326964
XMax: 330307.6896600632
YMax: 959766.1132326964
Spatial Reference: 26986
(26986)
LatestVCSWkid(0)
Full Extent:
XMin: 35497.68966006319
YMin: 777666.1132326964
XMax: 330307.6896600632
YMax: 959766.1132326964
Spatial Reference: 26986
(26986)
LatestVCSWkid(0)
Pixel Size X: 30.0
Pixel Size Y: 30.0
Band Count: 1
Pixel Type: F32
RasterFunction Infos: {"rasterFunctionInfos": [{
"name": "None",
"description": "",
"help": ""
}]}
Mensuration Capabilities: Basic
Inspection Capabilities:
Has Histograms: true
Has Colormap: false
Has Multi Dimensions : false
Rendering Rule:
Min Scale: 0
Max Scale: 0
Copyright Text:
Service Data Type: esriImageServiceDataTypeGeneric
Min Values: 0
Max Values: 5
Mean Values: 0.49583260684755
Standard Deviation Values: 1.1277002050947
Object ID Field:
Fields:
None
Default Mosaic Method: Center
Allowed Mosaic Methods:
SortField:
SortValue: null
Mosaic Operator: First
Default Compression Quality: 75
Default Resampling Method: Nearest
Max Record Count: null
Max Image Height: 4100
Max Image Width: 15000
Max Download Image Count: null
Max Mosaic Image Count: null
Allow Raster Function: true
Allow Copy: true
Allow Analysis: true
Allow Compute TiePoints: false
Supports Statistics: false
Supports Advanced Queries: false
Use StandardizedQueries: true
Raster Type Infos:
Name: Raster Dataset
Description: Supports all ArcGIS Raster Datasets
Help:
Has Raster Attribute Table: false
Edit Fields Info: null
Ownership Based AccessControl For Rasters: null
Child Resources:
Info
Histograms
Statistics
Key Properties
Legend
Raster Function Infos
Supported Operations:
Export Image
Identify
Measure
Compute Histograms
Compute Statistics Histograms
Get Samples
Compute Class Statistics
Query Boundary
Compute Pixel Location
Compute Angles
Validate
Project