{
 "currentVersion": 11.4,
 "serviceDescription": "Hosted/AgriculturalResourcesIndex",
 "name": "Hosted/AgriculturalResourcesIndex",
 "description": "",
 "extent": {
  "xmin": 35497.68966006319,
  "ymin": 777666.1132326964,
  "xmax": 330307.6896600632,
  "ymax": 959766.1132326964,
  "spatialReference": {
   "wkid": 26986,
   "latestWkid": 26986
  }
 },
 "initialExtent": {
  "xmin": 35497.68966006319,
  "ymin": 777666.1132326964,
  "xmax": 330307.6896600632,
  "ymax": 959766.1132326964,
  "spatialReference": {
   "wkid": 26986,
   "latestWkid": 26986
  }
 },
 "fullExtent": {
  "xmin": 35497.68966006319,
  "ymin": 777666.1132326964,
  "xmax": 330307.6896600632,
  "ymax": 959766.1132326964,
  "spatialReference": {
   "wkid": 26986,
   "latestWkid": 26986
  }
 },
 "sortableFields": "",
 "bandCount": 1,
 "pixelType": "F32",
 "minValues": [
  0
 ],
 "maxValues": [
  5
 ],
 "meanValues": [
  0.49583260684755
 ],
 "stdvValues": [
  1.1277002050947
 ],
 "hasMultidimensions": false,
 "pixelSizeX": 30,
 "pixelSizeY": 30,
 "meanPixelSize": 30,
 "datasetFormat": "TIFF",
 "uncompressedSize": 238599560,
 "blockWidth": 128,
 "blockHeight": 128,
 "compressionType": "LZW",
 "bandNames": [
  "Band_1"
 ],
 "allowCopy": true,
 "allowAnalysis": true,
 "itemAccess": false,
 "inspectionCapabilities": "",
 "noDataValue": 3.3999999521443642E38,
 "noDataValues": [
  3.3999999521443642E38
 ],
 "minPixelSize": 0,
 "maxPixelSize": 0,
 "copyrightText": "",
 "serviceDataType": "esriImageServiceDataTypeGeneric",
 "serviceSourceType": "esriImageServiceSourceTypeDataset",
 "objectIdField": "",
 "fields": [],
 "capabilities": "Image, Metadata, Mensuration",
 "defaultMosaicMethod": "Center",
 "allowedMosaicMethods": "",
 "sortField": "",
 "sortValue": null,
 "sortAscending": true,
 "mosaicOperator": "First",
 "defaultCompressionQuality": 75,
 "defaultResamplingMethod": "Nearest",
 "maxImageHeight": 4100,
 "maxImageWidth": 15000,
 "allowRasterFunction": true,
 "rasterFunctionInfos": [
  {
   "name": "None",
   "description": "",
   "help": ""
  }
 ],
 "rasterTypeInfos": [
  {
   "name": "Raster Dataset",
   "description": "Supports all ArcGIS Raster Datasets",
   "help": ""
  }
 ],
 "mensurationCapabilities": "Basic",
 "hasHistograms": true,
 "hasColormap": false,
 "hasRasterAttributeTable": false,
 "minScale": 0,
 "maxScale": 0,
 "exportTilesAllowed": false,
 "supportsStatistics": false,
 "supportsAdvancedQueries": false,
 "editFieldsInfo": null,
 "ownershipBasedAccessControlForRasters": null,
 "allowComputeTiePoints": false,
 "useStandardizedQueries": true,
 "advancedQueryCapabilities": {
  "useStandardizedQueries": true,
  "supportsStatistics": false,
  "supportsOrderBy": false,
  "supportsDistinct": false,
  "supportsPagination": false
 },
 "spatialReference": {
  "wkid": 26986,
  "latestWkid": 26986
 }
}
