{
 "currentVersion": 11.4,
 "serviceDescription": "Imagery/mcfrm_2030_d1",
 "name": "Imagery/mcfrm_2030_d1",
 "description": "The RasterRendering service is a multi-tenant raster rendering provider.",
 "extent": {
  "xmin": 211674,
  "ymin": 776514,
  "xmax": 331994,
  "ymax": 960748,
  "spatialReference": {
   "wkid": 26986,
   "latestWkid": 26986
  }
 },
 "initialExtent": {
  "xmin": 211674,
  "ymin": 776514,
  "xmax": 331994,
  "ymax": 960748,
  "spatialReference": {
   "wkid": 26986,
   "latestWkid": 26986
  }
 },
 "fullExtent": {
  "xmin": 211674,
  "ymin": 776514,
  "xmax": 331994,
  "ymax": 960748,
  "spatialReference": {
   "wkid": 26986,
   "latestWkid": 26986
  }
 },
 "sortableFields": "",
 "bandCount": 1,
 "pixelType": "F32",
 "minValues": [
  0
 ],
 "maxValues": [
  9999
 ],
 "meanValues": [
  7885.5717157247
 ],
 "stdvValues": [
  4079.3372272455
 ],
 "hasMultidimensions": false,
 "pixelSizeX": 2,
 "pixelSizeY": 2,
 "meanPixelSize": 2,
 "datasetFormat": "MRF",
 "uncompressedSize": 22167034880,
 "blockWidth": 512,
 "blockHeight": 512,
 "compressionType": "LERC",
 "bandNames": [
  "Band_1"
 ],
 "allowCopy": true,
 "allowAnalysis": true,
 "itemAccess": false,
 "inspectionCapabilities": "",
 "noDataValue": 3.3999999521443642E38,
 "noDataValues": [
  3.3999999521443642E38
 ],
 "minPixelSize": 0,
 "maxPixelSize": 0,
 "copyrightText": "",
 "serviceDataType": "esriImageServiceDataTypeGeneric",
 "serviceSourceType": "esriImageServiceSourceTypeDataset",
 "objectIdField": "",
 "fields": [],
 "capabilities": "Image",
 "defaultMosaicMethod": "Center",
 "allowedMosaicMethods": "",
 "sortField": "",
 "sortValue": null,
 "sortAscending": true,
 "mosaicOperator": "First",
 "defaultCompressionQuality": 75,
 "defaultResamplingMethod": "Nearest",
 "maxImageHeight": 4100,
 "maxImageWidth": 15000,
 "allowRasterFunction": true,
 "rasterFunctionInfos": [
  {
   "name": "mcfrm_color_arcmap",
   "description": "A raster function template.",
   "help": ""
  },
  {
   "name": "None",
   "description": "",
   "help": ""
  }
 ],
 "rasterTypeInfos": [
  {
   "name": "Raster Dataset",
   "description": "Supports all ArcGIS Raster Datasets",
   "help": ""
  }
 ],
 "mensurationCapabilities": "",
 "hasHistograms": false,
 "hasColormap": false,
 "hasRasterAttributeTable": false,
 "minScale": 0,
 "maxScale": 0,
 "exportTilesAllowed": false,
 "supportsStatistics": false,
 "supportsAdvancedQueries": false,
 "editFieldsInfo": null,
 "ownershipBasedAccessControlForRasters": null,
 "allowComputeTiePoints": false,
 "useStandardizedQueries": true,
 "advancedQueryCapabilities": {
  "useStandardizedQueries": true,
  "supportsStatistics": false,
  "supportsOrderBy": false,
  "supportsDistinct": false,
  "supportsPagination": false
 },
 "spatialReference": {
  "wkid": 26986,
  "latestWkid": 26986
 }
}
