{
 "currentVersion": 11.4,
 "serviceDescription": "Hosted/Potential_SOC_depth100_cm",
 "name": "Hosted/Potential_SOC_depth100_cm",
 "description": "The RasterRendering service is a multi-tenant raster rendering provider.",
 "extent": {
  "xmin": 1813384,
  "ymin": 2294260,
  "xmax": 2147631,
  "ymax": 2484032,
  "spatialReference": {
   "wkid": 5070,
   "latestWkid": 5070
  }
 },
 "initialExtent": {
  "xmin": 1813384,
  "ymin": 2294260,
  "xmax": 2147631,
  "ymax": 2484032,
  "spatialReference": {
   "wkid": 5070,
   "latestWkid": 5070
  }
 },
 "fullExtent": {
  "xmin": 1813384,
  "ymin": 2294260,
  "xmax": 2147631,
  "ymax": 2484032,
  "spatialReference": {
   "wkid": 5070,
   "latestWkid": 5070
  }
 },
 "sortableFields": "",
 "bandCount": 1,
 "pixelType": "S16",
 "minValues": [
  0
 ],
 "maxValues": [
  404
 ],
 "meanValues": [
  85.70058442345825
 ],
 "stdvValues": [
  52.562006333725996
 ],
 "hasMultidimensions": false,
 "pixelSizeX": 1,
 "pixelSizeY": 1,
 "meanPixelSize": 1,
 "datasetFormat": "Cache/LERC2D",
 "uncompressedSize": 126861443368,
 "blockWidth": 256,
 "blockHeight": 256,
 "compressionType": "LERC2D",
 "bandNames": [
  "Band_1"
 ],
 "allowCopy": true,
 "allowAnalysis": true,
 "itemAccess": false,
 "inspectionCapabilities": "",
 "noDataValue": -9999,
 "noDataValues": [
  -9999
 ],
 "minPixelSize": 0,
 "maxPixelSize": 0,
 "copyrightText": "",
 "serviceDataType": "esriImageServiceDataTypeGeneric",
 "serviceSourceType": "esriImageServiceSourceTypeDataset",
 "objectIdField": "",
 "fields": [],
 "capabilities": "Image, Metadata",
 "defaultMosaicMethod": "Center",
 "allowedMosaicMethods": "",
 "sortField": "",
 "sortValue": null,
 "sortAscending": true,
 "mosaicOperator": "First",
 "defaultCompressionQuality": 75,
 "defaultResamplingMethod": "Majority",
 "maxImageHeight": 4100,
 "maxImageWidth": 15000,
 "singleFusedMapCache": true,
 "tileInfo": {
  "rows": 256,
  "cols": 256,
  "dpi": 96,
  "format": "LERC2D",
  "compressionQuality": 0,
  "lercError": 0,
  "origin": {
   "x": 1813384,
   "y": 2484032
  },
  "spatialReference": {
   "wkid": 5070,
   "latestWkid": 5070
  },
  "lods": [
   {
    "level": 0,
    "resolution": 1024,
    "scale": 3870228.48
   },
   {
    "level": 1,
    "resolution": 512,
    "scale": 1935114.24
   },
   {
    "level": 2,
    "resolution": 256,
    "scale": 967557.12
   },
   {
    "level": 3,
    "resolution": 128,
    "scale": 483778.56
   },
   {
    "level": 4,
    "resolution": 64,
    "scale": 241889.28
   },
   {
    "level": 5,
    "resolution": 32,
    "scale": 120944.64
   },
   {
    "level": 6,
    "resolution": 16,
    "scale": 60472.32
   },
   {
    "level": 7,
    "resolution": 8,
    "scale": 30236.16
   },
   {
    "level": 8,
    "resolution": 4,
    "scale": 15118.08
   },
   {
    "level": 9,
    "resolution": 2,
    "scale": 7559.04
   },
   {
    "level": 10,
    "resolution": 1,
    "scale": 3779.52
   }
  ]
 },
 "storageInfo": {
  "storageFormat": "esriMapCacheStorageModeCompactV2",
  "packetSize": 16
 },
 "cacheType": "Raster",
 "allowRasterFunction": true,
 "rasterFunctionInfos": [
  {
   "name": "None",
   "description": "",
   "help": ""
  }
 ],
 "rasterTypeInfos": [
  {
   "name": "Raster Dataset",
   "description": "Supports all ArcGIS Raster Datasets",
   "help": ""
  }
 ],
 "mensurationCapabilities": "Basic",
 "hasHistograms": true,
 "hasColormap": false,
 "hasRasterAttributeTable": false,
 "minScale": 0,
 "maxScale": 0,
 "exportTilesAllowed": false,
 "supportsStatistics": false,
 "supportsAdvancedQueries": false,
 "editFieldsInfo": null,
 "ownershipBasedAccessControlForRasters": null,
 "allowComputeTiePoints": false,
 "useStandardizedQueries": true,
 "advancedQueryCapabilities": {
  "useStandardizedQueries": true,
  "supportsStatistics": false,
  "supportsOrderBy": false,
  "supportsDistinct": false,
  "supportsPagination": false
 },
 "spatialReference": {
  "wkid": 5070,
  "latestWkid": 5070
 }
}
