{
 "currentVersion": 11.4,
 "serviceDescription": "Hosted/MA_TotalEcosystemsCarbon2070_noNLCDdev_withQtiles",
 "name": "Hosted/MA_TotalEcosystemsCarbon2070_noNLCDdev_withQtiles",
 "description": "The RasterRendering service is a multi-tenant raster rendering provider.",
 "extent": {
  "xmin": 1808265,
  "ymin": 2245725,
  "xmax": 2140245,
  "ymax": 2498355,
  "spatialReference": {
   "wkt2": "PROJCRS[\"Albers_Conic_Equal_Area\",BASEGEOGCRS[\"GCS_North_American_1983\",DATUM[\"D_North_American_1983\",ELLIPSOID[\"GRS_1980\",6378137.0,298.257222101,LENGTHUNIT[\"Meter\",1.0]]],PRIMEM[\"Greenwich\",0.0,ANGLEUNIT[\"Degree\",0.0174532925199433]],CS[ellipsoidal,2],AXIS[\"Latitude (lat)\",north,ORDER[1]],AXIS[\"Longitude (lon)\",east,ORDER[2]],ANGLEUNIT[\"Degree\",0.0174532925199433]],CONVERSION[\"Albers\",METHOD[\"Albers\"],PARAMETER[\"False_Easting\",0.0,LENGTHUNIT[\"Meter\",1.0]],PARAMETER[\"False_Northing\",0.0,LENGTHUNIT[\"Meter\",1.0]],PARAMETER[\"Central_Meridian\",-96.0,ANGLEUNIT[\"Degree\",0.0174532925199433]],PARAMETER[\"Standard_Parallel_1\",29.5,ANGLEUNIT[\"Degree\",0.0174532925199433]],PARAMETER[\"Standard_Parallel_2\",45.5,ANGLEUNIT[\"Degree\",0.0174532925199433]],PARAMETER[\"Latitude_Of_Origin\",23.0,ANGLEUNIT[\"Degree\",0.0174532925199433]]],CS[Cartesian,2],AXIS[\"Easting (X)\",east,ORDER[1]],AXIS[\"Northing (Y)\",north,ORDER[2]],LENGTHUNIT[\"Meter\",1.0]]",
   "wkt": "PROJCS[\"Albers_Conic_Equal_Area\",GEOGCS[\"GCS_North_American_1983\",DATUM[\"D_North_American_1983\",SPHEROID[\"GRS_1980\",6378137.0,298.257222101]],PRIMEM[\"Greenwich\",0.0],UNIT[\"Degree\",0.0174532925199433]],PROJECTION[\"Albers\"],PARAMETER[\"False_Easting\",0.0],PARAMETER[\"False_Northing\",0.0],PARAMETER[\"Central_Meridian\",-96.0],PARAMETER[\"Standard_Parallel_1\",29.5],PARAMETER[\"Standard_Parallel_2\",45.5],PARAMETER[\"Latitude_Of_Origin\",23.0],UNIT[\"Meter\",1.0]]"
  }
 },
 "initialExtent": {
  "xmin": 1808265,
  "ymin": 2245725,
  "xmax": 2140245,
  "ymax": 2498355,
  "spatialReference": {
   "wkt2": "PROJCRS[\"Albers_Conic_Equal_Area\",BASEGEOGCRS[\"GCS_North_American_1983\",DATUM[\"D_North_American_1983\",ELLIPSOID[\"GRS_1980\",6378137.0,298.257222101,LENGTHUNIT[\"Meter\",1.0]]],PRIMEM[\"Greenwich\",0.0,ANGLEUNIT[\"Degree\",0.0174532925199433]],CS[ellipsoidal,2],AXIS[\"Latitude (lat)\",north,ORDER[1]],AXIS[\"Longitude (lon)\",east,ORDER[2]],ANGLEUNIT[\"Degree\",0.0174532925199433]],CONVERSION[\"Albers\",METHOD[\"Albers\"],PARAMETER[\"False_Easting\",0.0,LENGTHUNIT[\"Meter\",1.0]],PARAMETER[\"False_Northing\",0.0,LENGTHUNIT[\"Meter\",1.0]],PARAMETER[\"Central_Meridian\",-96.0,ANGLEUNIT[\"Degree\",0.0174532925199433]],PARAMETER[\"Standard_Parallel_1\",29.5,ANGLEUNIT[\"Degree\",0.0174532925199433]],PARAMETER[\"Standard_Parallel_2\",45.5,ANGLEUNIT[\"Degree\",0.0174532925199433]],PARAMETER[\"Latitude_Of_Origin\",23.0,ANGLEUNIT[\"Degree\",0.0174532925199433]]],CS[Cartesian,2],AXIS[\"Easting (X)\",east,ORDER[1]],AXIS[\"Northing (Y)\",north,ORDER[2]],LENGTHUNIT[\"Meter\",1.0]]",
   "wkt": "PROJCS[\"Albers_Conic_Equal_Area\",GEOGCS[\"GCS_North_American_1983\",DATUM[\"D_North_American_1983\",SPHEROID[\"GRS_1980\",6378137.0,298.257222101]],PRIMEM[\"Greenwich\",0.0],UNIT[\"Degree\",0.0174532925199433]],PROJECTION[\"Albers\"],PARAMETER[\"False_Easting\",0.0],PARAMETER[\"False_Northing\",0.0],PARAMETER[\"Central_Meridian\",-96.0],PARAMETER[\"Standard_Parallel_1\",29.5],PARAMETER[\"Standard_Parallel_2\",45.5],PARAMETER[\"Latitude_Of_Origin\",23.0],UNIT[\"Meter\",1.0]]"
  }
 },
 "fullExtent": {
  "xmin": 1808265,
  "ymin": 2245725,
  "xmax": 2140245,
  "ymax": 2498355,
  "spatialReference": {
   "wkt2": "PROJCRS[\"Albers_Conic_Equal_Area\",BASEGEOGCRS[\"GCS_North_American_1983\",DATUM[\"D_North_American_1983\",ELLIPSOID[\"GRS_1980\",6378137.0,298.257222101,LENGTHUNIT[\"Meter\",1.0]]],PRIMEM[\"Greenwich\",0.0,ANGLEUNIT[\"Degree\",0.0174532925199433]],CS[ellipsoidal,2],AXIS[\"Latitude (lat)\",north,ORDER[1]],AXIS[\"Longitude (lon)\",east,ORDER[2]],ANGLEUNIT[\"Degree\",0.0174532925199433]],CONVERSION[\"Albers\",METHOD[\"Albers\"],PARAMETER[\"False_Easting\",0.0,LENGTHUNIT[\"Meter\",1.0]],PARAMETER[\"False_Northing\",0.0,LENGTHUNIT[\"Meter\",1.0]],PARAMETER[\"Central_Meridian\",-96.0,ANGLEUNIT[\"Degree\",0.0174532925199433]],PARAMETER[\"Standard_Parallel_1\",29.5,ANGLEUNIT[\"Degree\",0.0174532925199433]],PARAMETER[\"Standard_Parallel_2\",45.5,ANGLEUNIT[\"Degree\",0.0174532925199433]],PARAMETER[\"Latitude_Of_Origin\",23.0,ANGLEUNIT[\"Degree\",0.0174532925199433]]],CS[Cartesian,2],AXIS[\"Easting (X)\",east,ORDER[1]],AXIS[\"Northing (Y)\",north,ORDER[2]],LENGTHUNIT[\"Meter\",1.0]]",
   "wkt": "PROJCS[\"Albers_Conic_Equal_Area\",GEOGCS[\"GCS_North_American_1983\",DATUM[\"D_North_American_1983\",SPHEROID[\"GRS_1980\",6378137.0,298.257222101]],PRIMEM[\"Greenwich\",0.0],UNIT[\"Degree\",0.0174532925199433]],PROJECTION[\"Albers\"],PARAMETER[\"False_Easting\",0.0],PARAMETER[\"False_Northing\",0.0],PARAMETER[\"Central_Meridian\",-96.0],PARAMETER[\"Standard_Parallel_1\",29.5],PARAMETER[\"Standard_Parallel_2\",45.5],PARAMETER[\"Latitude_Of_Origin\",23.0],UNIT[\"Meter\",1.0]]"
  }
 },
 "sortableFields": "",
 "bandCount": 1,
 "pixelType": "U16",
 "minValues": [
  45
 ],
 "maxValues": [
  480
 ],
 "meanValues": [
  360.5137226643564
 ],
 "stdvValues": [
  43.85110437770945
 ],
 "hasMultidimensions": false,
 "pixelSizeX": 30,
 "pixelSizeY": 30,
 "meanPixelSize": 30,
 "datasetFormat": "Cache/LERC2D",
 "uncompressedSize": 186373572,
 "blockWidth": 256,
 "blockHeight": 256,
 "compressionType": "LERC2D",
 "bandNames": [
  "Band_1"
 ],
 "allowCopy": true,
 "allowAnalysis": true,
 "itemAccess": false,
 "inspectionCapabilities": "",
 "noDataValue": 65535,
 "noDataValues": [
  65535
 ],
 "minPixelSize": 0,
 "maxPixelSize": 0,
 "copyrightText": "",
 "serviceDataType": "esriImageServiceDataTypeThematic",
 "serviceSourceType": "esriImageServiceSourceTypeDataset",
 "objectIdField": "",
 "fields": [],
 "capabilities": "Image, Metadata",
 "defaultMosaicMethod": "Center",
 "allowedMosaicMethods": "",
 "sortField": "",
 "sortValue": null,
 "sortAscending": true,
 "mosaicOperator": "First",
 "defaultCompressionQuality": 75,
 "defaultResamplingMethod": "Nearest",
 "maxImageHeight": 4100,
 "maxImageWidth": 15000,
 "singleFusedMapCache": true,
 "tileInfo": {
  "rows": 256,
  "cols": 256,
  "dpi": 96,
  "format": "LERC2D",
  "compressionQuality": 0,
  "lercError": 0,
  "origin": {
   "x": 1808265,
   "y": 2498355
  },
  "spatialReference": {
   "wkt2": "PROJCRS[\"Albers_Conic_Equal_Area\",BASEGEOGCRS[\"GCS_North_American_1983\",DATUM[\"D_North_American_1983\",ELLIPSOID[\"GRS_1980\",6378137.0,298.257222101,LENGTHUNIT[\"Meter\",1.0]]],PRIMEM[\"Greenwich\",0.0,ANGLEUNIT[\"Degree\",0.0174532925199433]],CS[ellipsoidal,2],AXIS[\"Latitude (lat)\",north,ORDER[1]],AXIS[\"Longitude (lon)\",east,ORDER[2]],ANGLEUNIT[\"Degree\",0.0174532925199433]],CONVERSION[\"Albers\",METHOD[\"Albers\"],PARAMETER[\"False_Easting\",0.0,LENGTHUNIT[\"Meter\",1.0]],PARAMETER[\"False_Northing\",0.0,LENGTHUNIT[\"Meter\",1.0]],PARAMETER[\"Central_Meridian\",-96.0,ANGLEUNIT[\"Degree\",0.0174532925199433]],PARAMETER[\"Standard_Parallel_1\",29.5,ANGLEUNIT[\"Degree\",0.0174532925199433]],PARAMETER[\"Standard_Parallel_2\",45.5,ANGLEUNIT[\"Degree\",0.0174532925199433]],PARAMETER[\"Latitude_Of_Origin\",23.0,ANGLEUNIT[\"Degree\",0.0174532925199433]]],CS[Cartesian,2],AXIS[\"Easting (X)\",east,ORDER[1]],AXIS[\"Northing (Y)\",north,ORDER[2]],LENGTHUNIT[\"Meter\",1.0]]",
   "wkt": "PROJCS[\"Albers_Conic_Equal_Area\",GEOGCS[\"GCS_North_American_1983\",DATUM[\"D_North_American_1983\",SPHEROID[\"GRS_1980\",6378137.0,298.257222101]],PRIMEM[\"Greenwich\",0.0],UNIT[\"Degree\",0.0174532925199433]],PROJECTION[\"Albers\"],PARAMETER[\"False_Easting\",0.0],PARAMETER[\"False_Northing\",0.0],PARAMETER[\"Central_Meridian\",-96.0],PARAMETER[\"Standard_Parallel_1\",29.5],PARAMETER[\"Standard_Parallel_2\",45.5],PARAMETER[\"Latitude_Of_Origin\",23.0],UNIT[\"Meter\",1.0]]"
  },
  "lods": [
   {
    "level": 0,
    "resolution": 1920,
    "scale": 7256678.399999999
   },
   {
    "level": 1,
    "resolution": 960,
    "scale": 3628339.1999999997
   },
   {
    "level": 2,
    "resolution": 480,
    "scale": 1814169.5999999999
   },
   {
    "level": 3,
    "resolution": 240,
    "scale": 907084.7999999999
   },
   {
    "level": 4,
    "resolution": 120,
    "scale": 453542.39999999997
   },
   {
    "level": 5,
    "resolution": 60,
    "scale": 226771.19999999998
   },
   {
    "level": 6,
    "resolution": 30,
    "scale": 113385.59999999999
   }
  ]
 },
 "storageInfo": {
  "storageFormat": "esriMapCacheStorageModeCompactV2",
  "packetSize": 16
 },
 "cacheType": "Raster",
 "allowRasterFunction": true,
 "rasterFunctionInfos": [
  {
   "name": "None",
   "description": "",
   "help": ""
  }
 ],
 "rasterTypeInfos": [
  {
   "name": "Raster Dataset",
   "description": "Supports all ArcGIS Raster Datasets",
   "help": ""
  }
 ],
 "mensurationCapabilities": "Basic",
 "hasHistograms": true,
 "hasColormap": false,
 "hasRasterAttributeTable": true,
 "minScale": 0,
 "maxScale": 0,
 "exportTilesAllowed": false,
 "supportsStatistics": false,
 "supportsAdvancedQueries": false,
 "editFieldsInfo": null,
 "ownershipBasedAccessControlForRasters": null,
 "allowComputeTiePoints": false,
 "useStandardizedQueries": true,
 "advancedQueryCapabilities": {
  "useStandardizedQueries": true,
  "supportsStatistics": false,
  "supportsOrderBy": false,
  "supportsDistinct": false,
  "supportsPagination": false
 },
 "spatialReference": {
  "wkt2": "PROJCRS[\"Albers_Conic_Equal_Area\",BASEGEOGCRS[\"GCS_North_American_1983\",DATUM[\"D_North_American_1983\",ELLIPSOID[\"GRS_1980\",6378137.0,298.257222101,LENGTHUNIT[\"Meter\",1.0]]],PRIMEM[\"Greenwich\",0.0,ANGLEUNIT[\"Degree\",0.0174532925199433]],CS[ellipsoidal,2],AXIS[\"Latitude (lat)\",north,ORDER[1]],AXIS[\"Longitude (lon)\",east,ORDER[2]],ANGLEUNIT[\"Degree\",0.0174532925199433]],CONVERSION[\"Albers\",METHOD[\"Albers\"],PARAMETER[\"False_Easting\",0.0,LENGTHUNIT[\"Meter\",1.0]],PARAMETER[\"False_Northing\",0.0,LENGTHUNIT[\"Meter\",1.0]],PARAMETER[\"Central_Meridian\",-96.0,ANGLEUNIT[\"Degree\",0.0174532925199433]],PARAMETER[\"Standard_Parallel_1\",29.5,ANGLEUNIT[\"Degree\",0.0174532925199433]],PARAMETER[\"Standard_Parallel_2\",45.5,ANGLEUNIT[\"Degree\",0.0174532925199433]],PARAMETER[\"Latitude_Of_Origin\",23.0,ANGLEUNIT[\"Degree\",0.0174532925199433]]],CS[Cartesian,2],AXIS[\"Easting (X)\",east,ORDER[1]],AXIS[\"Northing (Y)\",north,ORDER[2]],LENGTHUNIT[\"Meter\",1.0]]",
  "wkt": "PROJCS[\"Albers_Conic_Equal_Area\",GEOGCS[\"GCS_North_American_1983\",DATUM[\"D_North_American_1983\",SPHEROID[\"GRS_1980\",6378137.0,298.257222101]],PRIMEM[\"Greenwich\",0.0],UNIT[\"Degree\",0.0174532925199433]],PROJECTION[\"Albers\"],PARAMETER[\"False_Easting\",0.0],PARAMETER[\"False_Northing\",0.0],PARAMETER[\"Central_Meridian\",-96.0],PARAMETER[\"Standard_Parallel_1\",29.5],PARAMETER[\"Standard_Parallel_2\",45.5],PARAMETER[\"Latitude_Of_Origin\",23.0],UNIT[\"Meter\",1.0]]"
 }
}
